BEGIN:VCALENDAR
VERSION:2.0
PRODID:-//Kualifikasi Piala Dunia 2026 Eropa – Berita Terbaru, Jadwal, dan Hasil Lengkap - ECPv6.15.20//NONSGML v1.0//EN
CALSCALE:GREGORIAN
METHOD:PUBLISH
X-ORIGINAL-URL:https://zonaeropa.com
X-WR-CALDESC:Events for Kualifikasi Piala Dunia 2026 Eropa – Berita Terbaru, Jadwal, dan Hasil Lengkap
REFRESH-INTERVAL;VALUE=DURATION:PT1H
X-Robots-Tag:noindex
X-PUBLISHED-TTL:PT1H
BEGIN:VTIMEZONE
TZID:UTC
BEGIN:STANDARD
TZOFFSETFROM:+0000
TZOFFSETTO:+0000
TZNAME:UTC
DTSTART:20240101T000000
END:STANDARD
END:VTIMEZONE
BEGIN:VEVENT
DTSTART;TZID=UTC:20250923T080000
DTEND;TZID=UTC:20250923T170000
DTSTAMP:20260423T093314
CREATED:20250923T021532Z
LAST-MODIFIED:20250923T021532Z
UID:132-1758614400-1758646800@zonaeropa.com
SUMMARY:Qatar Turunkan Tekanan ke UEFA\, Israel Diminta Dicoret dari Piala Dunia 2026
DESCRIPTION:Qatar Tekan UEFA\, Desak Israel Dicoret dari Piala Dunia 2026\nQatar kembali menjadi sorotan dunia internasional setelah secara terbuka menekan UEFA untuk menjatuhkan hukuman larangan tampil kepada Timnas Israel di Piala Dunia 2026. Permintaan ini muncul di tengah meningkatnya ketegangan politik yang kini ikut merembet ke ranah olahraga internasional. \nMenurut laporan sejumlah media Timur Tengah\, Qatar menilai partisipasi Israel di ajang sepak bola terbesar dunia bertentangan dengan semangat fair play dan perdamaian yang seharusnya dijunjung tinggi oleh FIFA dan UEFA. Desakan Qatar ini pun langsung memicu diskusi hangat di kalangan pemerhati olahraga global. \nBeberapa negara Arab dilaporkan mendukung langkah Qatar\, sementara pihak lain menilai campur tangan politik justru bisa merusak netralitas olahraga. UEFA sendiri berada dalam posisi sulit: jika menolak permintaan Qatar\, mereka bisa menghadapi boikot dari sejumlah negara. Namun jika menuruti tekanan tersebut\, UEFA akan dituduh mencampuradukkan urusan politik dengan sepak bola. \nBanner berita Qatar tekan UEFA minta Israel dicoret dari Piala Dunia 2026\nSelain itu\, isu ini juga berdampak langsung bagi Timnas Israel yang tengah berjuang di babak kualifikasi. Jika benar dicoret\, Israel akan kehilangan kesempatan besar untuk tampil di turnamen bergengsi yang digelar di Amerika Serikat\, Kanada\, dan Meksiko pada 2026. Situasi ini menjadi pukulan telak bagi skuad Israel sekaligus menambah rumit hubungan mereka dengan federasi sepak bola Eropa. \nBagi Qatar\, langkah ini bukan hanya sebatas solidaritas politik\, tetapi juga cara menunjukkan pengaruhnya di panggung olahraga dunia. Qatar sebelumnya sudah sukses menjadi tuan rumah Piala Dunia 2022\, dan kini berusaha mempertahankan posisi pentingnya dalam percaturan sepak bola global. \nPerdebatan ini memperlihatkan bahwa Piala Dunia bukan hanya ajang kompetisi olahraga\, melainkan juga arena diplomasi internasional. Apakah UEFA akan menuruti desakan Qatar\, atau tetap mempertahankan prinsip netralitas? Jawabannya akan sangat menentukan jalannya Piala Dunia 2026 dan masa depan hubungan politik dalam sepak bola dunia. \n\n\nPendahuluan Qatar kembali membuat gebrakan dengan menekan UEFA agar Israel dicoret dari Piala Dunia 2026. Isu ini memicu perdebatan global karena menyatukan politik dan olahraga. \n\n\nAlasan Qatar Mendesak UEFA  \n\n\nSolidaritas politik kawasan Timur Tengah \n\n\nPenilaian bahwa Israel tidak mencerminkan nilai fair play \n\n\nPengaruh Qatar pasca sukses menjadi tuan rumah Piala Dunia 2022 \n\n\n\n\nRespon UEFA dan Negara Lain  \n\n\nUEFA serba salah: menjaga netralitas vs menghadapi tekanan politik \n\n\nDukungan sebagian negara Teluk \n\n\nKritik dari pihak yang menolak politisasi olahraga \n\n\n\n\nDampak ke Israel  \n\n\nIsrael bisa kehilangan kesempatan tampil di Piala Dunia 2026 \n\n\nMotivasi timnas terganggu \n\n\nDampak jangka panjang pada hubungan mereka dengan federasi sepak bola internasional \n\n\n\n\nAnalisis dan Penutup Kasus ini menunjukkan bahwa olahraga global tidak bisa lepas dari dinamika politik. Piala Dunia adalah ajang sportivitas\, tapi juga alat diplomasi internasional. Pertanyaan besar kini: apakah UEFA akan menuruti desakan Qatar\, atau tetap bertahan pada prinsip netralitas?
URL:https://zonaeropa.com/event/qatar-turunkan-tekanan-ke-uefa-israel-diminta-dicoret-dari-piala-dunia-2026/
CATEGORIES:Analisis & Prediksi,Berita Terbaru,Hasil & Klasemen,Jadwal Pertandingan,Piala dunia tahun 2025,Profil Tim Nasional
END:VEVENT
BEGIN:VEVENT
DTSTART;TZID=UTC:20250919T080000
DTEND;TZID=UTC:20250919T170000
DTSTAMP:20260423T093314
CREATED:20250919T071331Z
LAST-MODIFIED:20250919T074533Z
UID:96-1758268800-1758301200@zonaeropa.com
SUMMARY:Jadwal & Hasil Kualifikasi Piala Dunia 2026 Zona Eropa – Update Berita Terbaru Lengkap
DESCRIPTION:kualifikasi Piala Dunia 2026 zona Eropa.\nDapatkan jadwal resmi\, hasil pertandingan terkini\, klasemen grup\, serta analisis lengkap persaingan tim-tim nasional menuju ajang sepak bola terbesar di dunia. Kualifikasi Piala Dunia 2026 zona Eropa menjadi salah satu kompetisi paling bergengsi yang selalu menyita perhatian publik. Dengan jumlah peserta yang lebih banyak dan format baru dari FIFA\, setiap pertandingan menghadirkan drama\, strategi\, serta kejutan yang membuat persaingan semakin panas. \nNegara-negara besar seperti Jerman\, Prancis\, Spanyol\, Inggris\, Italia\, dan Belanda kembali difavoritkan untuk merebut tiket menuju putaran final. Namun\, kejutan dari tim kuda hitam seperti Kroasia\, Swiss\, dan Denmark juga tidak bisa dipandang sebelah mata\, karena mereka kerap memberikan perlawanan sengit dan mampu merusak dominasi tim besar. \n \n📌 Jadwal Pertandingan TerbaruFIFA telah merilis jadwal resmi kualifikasi Piala Dunia 2026 zona Eropa. Pertandingan berlangsung dari 2025 hingga awal 2026 dengan sistem grup\, di mana setiap tim harus menghadapi lawan tangguh di kandang maupun tandang. Update jadwal ini akan terus diperbarui seiring kompetisi berjalan. \n📌 Hasil Pertandingan & KlasemenHasil pertandingan akan langsung memengaruhi klasemen grup. Kemenangan memberikan poin penting untuk menjaga asa lolos\, sementara kekalahan bisa menjadi ancaman bagi tim unggulan. Banyak laga yang diprediksi berlangsung sengit\, seperti \n\nderby klasik Jerman vs Belanda\nbig match Inggris vs Prancis.\n\n📌 Prediksi & AnalisisSelain jadwal dan hasil pertandingan\, analisis mendalam dari para pengamat sepak bola juga memberikan gambaran menarik. Banyak yang memprediksi bahwa dominasi tim besar akan tetap terjaga\, namun faktor kejutan dari tim kecil bisa menjadi penentu jalannya kompetisi. \n\nKesimpulan\nKualifikasi Piala Dunia 2026 zona Eropa bukan hanya soal perebutan tiket menuju ajang terbesar sepak bola\, tetapi juga panggung penuh drama yang selalu ditunggu penggemar. Dengan jadwal padat\, hasil menegangkan\, serta prediksi yang terus berubah\, setiap pertandingan menghadirkan cerita baru dalam perjalanan menuju Piala Dunia 2026. \nJadwal Pertandingan Kualifikasi\nFIFA sudah merilis jadwal resmi kualifikasi zona Eropa. Setiap tim bermain dengan sistem kandang dan tandang. \n\nPertandingan dimulai pada 2025.\nBabak kualifikasi berlanjut hingga awal 2026.\nBig match seperti Prancis vs Jerman dan Belanda vs Italia menjadi sorotan utama.\n\nJadwal lengkap akan terus diperbarui agar penggemar bisa mengikuti perkembangan terbaru. \nHasil Pertandingan dan Klasemen\nSetiap kemenangan memberi poin penting dalam klasemen grup. Kekalahan bisa langsung mengubah peluang lolos. \n\nInggris membuka laga dengan kemenangan besar.\n\nPrancis dan Jerman bersaing ketat di grup masing-masing \n\n\nTim kejutan seperti Hungaria berhasil mencuri poin dari tim unggulan. \n\n\nKlasemen terbaru memperlihatkan persaingan sengit di semua grup. Setiap pertandingan bisa menjadi penentu.
URL:https://zonaeropa.com/event/jadwal-hasil-kualifikasi-piala-dunia-2026-zona-eropa-update-berita-terbaru-lengkap/
CATEGORIES:Analisis & Prediksi,Berita Terbaru,Hasil & Klasemen,Jadwal Pertandingan,Piala dunia tahun 2025,Profil Tim Nasional
END:VEVENT
END:VCALENDAR